BEGIN:VCALENDAR
VERSION:2.0
PRODID:-//Marriage &amp; Relationship Education Center - ECPv6.15.20//NONSGML v1.0//EN
CALSCALE:GREGORIAN
METHOD:PUBLISH
X-WR-CALNAME:Marriage &amp; Relationship Education Center
X-ORIGINAL-URL:https://mrecenter.org
X-WR-CALDESC:Events for Marriage &amp; Relationship Education Center
REFRESH-INTERVAL;VALUE=DURATION:PT1H
X-Robots-Tag:noindex
X-PUBLISHED-TTL:PT1H
BEGIN:VTIMEZONE
TZID:America/New_York
BEGIN:DAYLIGHT
TZOFFSETFROM:-0500
TZOFFSETTO:-0400
TZNAME:EDT
DTSTART:20250309T070000
END:DAYLIGHT
BEGIN:STANDARD
TZOFFSETFROM:-0400
TZOFFSETTO:-0500
TZNAME:EST
DTSTART:20251102T060000
END:STANDARD
BEGIN:DAYLIGHT
TZOFFSETFROM:-0500
TZOFFSETTO:-0400
TZNAME:EDT
DTSTART:20260308T070000
END:DAYLIGHT
BEGIN:STANDARD
TZOFFSETFROM:-0400
TZOFFSETTO:-0500
TZNAME:EST
DTSTART:20261101T060000
END:STANDARD
BEGIN:DAYLIGHT
TZOFFSETFROM:-0500
TZOFFSETTO:-0400
TZNAME:EDT
DTSTART:20270314T070000
END:DAYLIGHT
BEGIN:STANDARD
TZOFFSETFROM:-0400
TZOFFSETTO:-0500
TZNAME:EST
DTSTART:20271107T060000
END:STANDARD
END:VTIMEZONE
BEGIN:VEVENT
DTSTART;TZID=America/New_York:20260612T180000
DTEND;TZID=America/New_York:20260612T200000
DTSTAMP:20260423T042837
CREATED:20260417T022359Z
LAST-MODIFIED:20260421T155505Z
UID:9820-1781287200-1781294400@mrecenter.org
SUMMARY:Couples Date Night - Frederick\, MD
DESCRIPTION:Ready to add some sizzle and spark to your next date night?  We’ve got you covered! \n \n\n\n\n\n\n\n\nJoin the Frederick Marriage Team for a fun date night experience\, complete with dinner\, desserts\, and other special surprises.    \nGood marriages don’t happen by accident; they’re built on purpose. Come as a couple\, or bring your small group.  Either way\, you don’t want to miss this.  \n \nHere’s the Deal:  Just $40 per couple (includes dinner and childcare – pre-registration required). \n \nHere’s the Time: \n\n\n\n\n\n\n\nDoors open: 5:30pm \nDinner & Special Program: 6:00-8:00pm \n \nHere’s the Childcare Registration: \nhttps://mycollectivechurch.churchcenter.com/registrations/events/3553658 \n \nRegister for the DATE NIGHT HERE – spots are limited! \n \n Register\n 
URL:https://mrecenter.org/event/couples-date-night-frederick/
LOCATION:Collective Church\, 5103 Pegasus Ct Suite E\, Frederick\, Maryland
CATEGORIES:Churches,Couples
ATTACH;FMTTYPE=image/jpeg:https://mrecenter.org/wp-content/uploads/2026/04/MARRIAGE-NIGHT_Flyer1.jpg
ORGANIZER;CN="MREC":MAILTO:kaycee@mrecenter.org
END:VEVENT
END:VCALENDAR