BEGIN:VCALENDAR
VERSION:2.0
PRODID:-//Marriage &amp; Relationship Education Center - ECPv6.15.20//NONSGML v1.0//EN
CALSCALE:GREGORIAN
METHOD:PUBLISH
X-WR-CALNAME:Marriage &amp; Relationship Education Center
X-ORIGINAL-URL:https://mrecenter.org
X-WR-CALDESC:Events for Marriage &amp; Relationship Education Center
REFRESH-INTERVAL;VALUE=DURATION:PT1H
X-Robots-Tag:noindex
X-PUBLISHED-TTL:PT1H
BEGIN:VTIMEZONE
TZID:UTC
BEGIN:STANDARD
TZOFFSETFROM:+0000
TZOFFSETTO:+0000
TZNAME:UTC
DTSTART:20240101T000000
END:STANDARD
END:VTIMEZONE
BEGIN:VEVENT
DTSTART;TZID=UTC:20250531T170000
DTEND;TZID=UTC:20250531T210000
DTSTAMP:20260424T114032
CREATED:20250128T003622Z
LAST-MODIFIED:20250409T233401Z
UID:6596-1748710800-1748725200@mrecenter.org
SUMMARY:Western Soirée Benefit - Sponsors
DESCRIPTION:Become a Sponsor!
URL:https://mrecenter.org/event/https-mrecenter-app-neoncrm-com-forms-2025-western-soiree-corporate-sponsorship-formcampaignid67/
ATTACH;FMTTYPE=image/png:https://mrecenter.org/wp-content/uploads/2025/01/western-benefir-sponsor.png
END:VEVENT
END:VCALENDAR