BEGIN:VCALENDAR
VERSION:2.0
PRODID:-//Marriage &amp; Relationship Education Center - ECPv6.15.20//NONSGML v1.0//EN
CALSCALE:GREGORIAN
METHOD:PUBLISH
X-ORIGINAL-URL:https://mrecenter.org
X-WR-CALDESC:Events for Marriage &amp; Relationship Education Center
REFRESH-INTERVAL;VALUE=DURATION:PT1H
X-Robots-Tag:noindex
X-PUBLISHED-TTL:PT1H
BEGIN:VTIMEZONE
TZID:America/New_York
BEGIN:DAYLIGHT
TZOFFSETFROM:-0500
TZOFFSETTO:-0400
TZNAME:EDT
DTSTART:20250309T070000
END:DAYLIGHT
BEGIN:STANDARD
TZOFFSETFROM:-0400
TZOFFSETTO:-0500
TZNAME:EST
DTSTART:20251102T060000
END:STANDARD
BEGIN:DAYLIGHT
TZOFFSETFROM:-0500
TZOFFSETTO:-0400
TZNAME:EDT
DTSTART:20260308T070000
END:DAYLIGHT
BEGIN:STANDARD
TZOFFSETFROM:-0400
TZOFFSETTO:-0500
TZNAME:EST
DTSTART:20261101T060000
END:STANDARD
BEGIN:DAYLIGHT
TZOFFSETFROM:-0500
TZOFFSETTO:-0400
TZNAME:EDT
DTSTART:20270314T070000
END:DAYLIGHT
BEGIN:STANDARD
TZOFFSETFROM:-0400
TZOFFSETTO:-0500
TZNAME:EST
DTSTART:20271107T060000
END:STANDARD
END:VTIMEZONE
BEGIN:VEVENT
DTSTART;TZID=America/New_York:20260613T080000
DTEND;TZID=America/New_York:20260613T093000
DTSTAMP:20260425T081501
CREATED:20260417T021410Z
LAST-MODIFIED:20260420T235139Z
UID:9825-1781337600-1781343000@mrecenter.org
SUMMARY:Essential Rhythms for Healthy Men
DESCRIPTION:Are you a pastor? elder? deacon? ministry leader? or desire to grow in community with other like-minded men? This unique event is designed just for you\, offering a meaningful morning of encouragement. \n \nWE CARE ABOUT YOU\, YOUR FAMILY\, AND YOUR MINISTRY\, so we’re offering this unique gathering as a gift to you\, to honor and strengthen you as you serve the local church. \n \nSpecial guest Dan Hyun will challenge your walk with Christ\, encourage a healthy soul in ministry\, and help you stay grounded in challenging times.  \n \nEnjoy breakfast and worship alongside fellow pastors and leaders\, and walk away refreshed and strengthened for the road ahead. \n \n Register Today!
URL:https://mrecenter.org/event/essential-rhythms/
LOCATION:Northwest Baptist Church\, 300 Westminster Road\, Reisterstown\, Maryland\, 21136
CATEGORIES:Churches
ATTACH;FMTTYPE=image/jpeg:https://mrecenter.org/wp-content/uploads/2026/04/Pastors-Ministry-Leaders-Breakfast-1.jpg
ORGANIZER;CN="MREC":MAILTO:kaycee@mrecenter.org
END:VEVENT
END:VCALENDAR